BEGIN:VCALENDAR
VERSION:2.0
PRODID:-//TriskellCom - ECPv6.15.20//NONSGML v1.0//EN
CALSCALE:GREGORIAN
METHOD:PUBLISH
X-WR-CALNAME:TriskellCom
X-ORIGINAL-URL:https://triskellcom.com
X-WR-CALDESC:Évènements pour TriskellCom
REFRESH-INTERVAL;VALUE=DURATION:PT1H
X-Robots-Tag:noindex
X-PUBLISHED-TTL:PT1H
BEGIN:VTIMEZONE
TZID:Europe/Paris
BEGIN:DAYLIGHT
TZOFFSETFROM:+0100
TZOFFSETTO:+0200
TZNAME:CEST
DTSTART:20250330T010000
END:DAYLIGHT
BEGIN:STANDARD
TZOFFSETFROM:+0200
TZOFFSETTO:+0100
TZNAME:CET
DTSTART:20251026T010000
END:STANDARD
BEGIN:DAYLIGHT
TZOFFSETFROM:+0100
TZOFFSETTO:+0200
TZNAME:CEST
DTSTART:20260329T010000
END:DAYLIGHT
BEGIN:STANDARD
TZOFFSETFROM:+0200
TZOFFSETTO:+0100
TZNAME:CET
DTSTART:20261025T010000
END:STANDARD
BEGIN:DAYLIGHT
TZOFFSETFROM:+0100
TZOFFSETTO:+0200
TZNAME:CEST
DTSTART:20270328T010000
END:DAYLIGHT
BEGIN:STANDARD
TZOFFSETFROM:+0200
TZOFFSETTO:+0100
TZNAME:CET
DTSTART:20271031T010000
END:STANDARD
END:VTIMEZONE
BEGIN:VEVENT
DTSTART;TZID=Europe/Paris:20260422T180000
DTEND;TZID=Europe/Paris:20260422T220000
DTSTAMP:20260422T132109
CREATED:20260331T134640Z
LAST-MODIFIED:20260331T134640Z
UID:1164-1776880800-1776895200@triskellcom.com
SUMMARY:AFTER WORK SESSION IRLANDAISE
DESCRIPTION:Viendez trembler au son de la Musique traditionnelle Irlandaise ! \nChaque mercredi entre 18H et 22H en live et sans chichi\, des zikos passionnés vont vous offrir en p’tit voyage à travers les terres légendaires de l’île verte ! \nQuoi de mieux pour finir la journée peinard en sirotant une p’tite mousse maison ?
URL:https://triskellcom.com/calendrier-evenements/after-work-session-irlandaise-3/
LOCATION:la Loco\, 33 Bd de la Gare\, Quimperlé\, bretagne\, 29300\, France
CATEGORIES:Concerts & Soirées musicales,Vie sociale, Communauté & Fêtes
ATTACH;FMTTYPE=image/jpeg:https://triskellcom.com/wp-content/uploads/2026/03/AFTER-WORK-SESSION-IRLANDAISE-.jpeg
END:VEVENT
BEGIN:VEVENT
DTSTART;TZID=Europe/Paris:20260423T180000
DTEND;TZID=Europe/Paris:20260423T220000
DTSTAMP:20260422T132109
CREATED:20260331T135139Z
LAST-MODIFIED:20260331T135139Z
UID:1167-1776967200-1776981600@triskellcom.com
SUMMARY:Session musiques et danses bretonnes
DESCRIPTION:Avis aux amateurs de la gwerz\, de la sône\, du kantig et du kan-ha-diskan !!! \nLa LOCO n’est pas peu fière d’accueillir désormais chaque jeudi musicien.ne.s\, danseuses et danseurs (car on a un sacré beau parquet) pour un temps convivial pour jouer et partager vos thèmes de gavotte\, an dro et autres plinn débridés ! \nC’est l’occasion de se rencontrer entre passionné.e.s et partager les airs du pays autour d’une bonne bolée ! \nAlors\, on lâche les fauves et on envoie la musique ???!!!
URL:https://triskellcom.com/calendrier-evenements/session-musiques-danses-bretonnes-3/
LOCATION:la Loco\, 33 Bd de la Gare\, Quimperlé\, bretagne\, 29300\, France
CATEGORIES:Concerts & Soirées musicales,Vie sociale, Communauté & Fêtes
ATTACH;FMTTYPE=image/jpeg:https://triskellcom.com/wp-content/uploads/2026/03/Session-musiques-et-danses-bretonnes.jpeg
END:VEVENT
BEGIN:VEVENT
DTSTART;TZID=Europe/Paris:20260424T200000
DTEND;TZID=Europe/Paris:20260425T030000
DTSTAMP:20260422T132109
CREATED:20260331T135655Z
LAST-MODIFIED:20260331T140330Z
UID:1170-1777060800-1777086000@triskellcom.com
SUMMARY:Soirée Rap / Hip Hop Underground Al Tarba / B2M / Cenza / G HIGH DJO / Gras du Beat
DESCRIPTION:B2M\nB2M (Bail 2 Mif)\, c’est quoi ? C’est un Crew de quatre artistes bretons passionnés de hip-hop\, unis par la même envie : offrir du son de qualité\, sincère et percutant. \nDepuis maintenant trois ans\, SEÑOR LINO\, SEÑOR EL KALIF\, GRAS DU BEAT et MDJAMES arpentent les scènes de concerts et les festivals avec une énergie débordante. Avec plus d’une trentaine de dates depuis 2022\, ils tracent leur route dans le paysage hip-hop français grâce à des textes affûtés\, remplis de vérités\, de techniques et de flows variés. \nEntre auteurs\, interprètes\, beatmakers\, DJ\, graffeurs\, vidéastes et photographes\, B2M forme un cocktail explosif fait maison\, taillé pour les oreilles en quête de nouveautés ! \nhttps://youtu.be/oUkl2w8T2N8 \n  \nAL’TARBA\nEn insatiable quête de sentiers inexplorés\, Al’Tarba se plait à naviguer sur le sombre\, voire l’horrorcore\, dans la lignée de Necro et Stoupe\, tout en s’embarquant au gré d’instrus electroswing à la Chinese Man\, pour s’adonner parfois à des vents plus doux\, dans le sillon d’artistes abstracts tels que RJD2 ou DJ Shadow. \nIdentifiable par ses sons aux ambiances aussi ténébreuses qu’enfantines\, aux influences cinématographiques toujours perceptibles\, Al’Tarba s’avère être définitivement un artiste solo cultivé\, revendiquant la complexité et déchirant toutes les étiquettes à commencer par celle du puriste. \nhttps://youtu.be/8zyt2YTVxfc \n  \nCENZA\nCenza est un des rappeurs phares et se différencie de par son aisance à changer de flow\, et sa rapidité sans précédent ! \nPour Cenza\, il faut que la musique prime avant tout. Le côté commercial le dérange. “Je ne vois pas pourquoi les mecs se mettent à faire des albums de merde pour vendre plus\, j’ai jamais compris ce concept. Pour moi\, le calcul dans la musique\, c’est la mort de l’art.” \n“La scène reste pour nous hyper importante. On s’entraîne comme des boxeurs pour arriver sur scène comme une machine de guerre. On a été éduqué à la scène. C’est aussi sur ça qu’on se démarque. On apporte une nouvelle énergie sur scène. On veut que lorsqu’on nous voit en concert\, les mecs se prennent une nouvelle tarte dans la gueule !” \nhttps://youtu.be/iUt_JiLkSD4 \n 
URL:https://triskellcom.com/calendrier-evenements/soiree-rap-hip-hop-underground/
LOCATION:la Loco\, 33 Bd de la Gare\, Quimperlé\, bretagne\, 29300\, France
CATEGORIES:Concerts & Soirées musicales,Vie sociale, Communauté & Fêtes
ATTACH;FMTTYPE=image/jpeg:https://triskellcom.com/wp-content/uploads/2026/03/Soiree-Rap-Hip-Hop-Underground-Al-Tarba-B2M-Cenza-G-HIGH-DJO-Gras-du-Beat.jpg
END:VEVENT
BEGIN:VEVENT
DTSTART;TZID=Europe/Paris:20260425T200000
DTEND;TZID=Europe/Paris:20260426T030000
DTSTAMP:20260422T132109
CREATED:20260331T140700Z
LAST-MODIFIED:20260331T141313Z
UID:1174-1777147200-1777172400@triskellcom.com
SUMMARY:M.O.K.O (Electro-punk) - DIRTY SOUND MAGNET (Psychedelic Rock)
DESCRIPTION:Dirty Sound Magnet \nDirty Sound Magnet est la sensation rock du moment\, enchaînant les concerts à guichets fermés dans toute l’Europe et au-delà ! \nAvec plus de 500 concerts à travers l’Europe\, le Royaume-Uni et le Mexique\, trois albums studio et un captivant album live\, le tout depuis 2017\, le groupe suisse Dirty Sound Magnet est une force du rock inarrêtable et indomptable ! \nGrâce à une musique unique et des performances live hypnotisantes et explosives\, le groupe a conquis le public du monde entier. Leur show est imprévisible : une présence scénique chamanique\, un charisme de rockstar\, une virtuosité instrumentale\, des textes poétiques\, et une dynamique envoûtante. \nAttendez-vous à l’inattendu !!! \nhttps://youtu.be/Fi2b63_de2E \nhttps://youtu.be/GmZZoPENLGE \nM.O.K.O \nLa fièvre du bpm\, la rage au cœur\, M.O.K.O c’est un duo nancéen de gentils énervés/cracheurs de beats qui ne ménagent ni les hanches\, ni les oreilles et touchent aux sensibilités punk\, rock\, electro et bass music. \nComposé d’une batteuse chauffée à blanc/punkoïde et d’un machiniste touche-à-tout\, le duo prend feu d’entrée de jeu avec les basses pour combustibles ! \nTempo sauvage\, M.O.K.O délivre un live vivant à l’énergie contagieuse !!! \nhttps://www.youtube.com/watch?v=93RXX3umQiw \n  \nPrévente : 18€ \nTarif J – 7 : 20€
URL:https://triskellcom.com/calendrier-evenements/moko-dirty-sound-magnet-concert/
LOCATION:la Loco\, 33 Bd de la Gare\, Quimperlé\, bretagne\, 29300\, France
CATEGORIES:Concerts & Soirées musicales,Vie sociale, Communauté & Fêtes
ATTACH;FMTTYPE=image/png:https://triskellcom.com/wp-content/uploads/2026/03/M.O.K.O-Electro-punk-DIRTY-SOUND-MAGNET-Psychedelic-Rock-e1774966015181.png
END:VEVENT
BEGIN:VEVENT
DTSTART;TZID=Europe/Paris:20260426T180000
DTEND;TZID=Europe/Paris:20260426T220000
DTSTAMP:20260422T132109
CREATED:20260331T141502Z
LAST-MODIFIED:20260331T152812Z
UID:1177-1777226400-1777240800@triskellcom.com
SUMMARY:Blues Jam Session / Crêpes
DESCRIPTION:Blues jam Session
URL:https://triskellcom.com/calendrier-evenements/blues-jam-session-crepes/
LOCATION:la Loco\, 33 Bd de la Gare\, Quimperlé\, bretagne\, 29300\, France
CATEGORIES:Concerts & Soirées musicales,Vie sociale, Communauté & Fêtes
ATTACH;FMTTYPE=image/jpeg:https://triskellcom.com/wp-content/uploads/2026/03/Blues-Jam-Session-Crepes-e1774966495964.jpeg
END:VEVENT
BEGIN:VEVENT
DTSTART;TZID=Europe/Paris:20260429T160000
DTEND;TZID=Europe/Paris:20260429T180000
DTSTAMP:20260422T132109
CREATED:20260331T153345Z
LAST-MODIFIED:20260331T153712Z
UID:1180-1777478400-1777485600@triskellcom.com
SUMMARY:Rendez-vous de la Santé
DESCRIPTION:Gérer ses émotions\, parler sans se prendre la tête\, savoir dire non\, prendre les bonnes décisions… pas toujours facile\, non ? \nPourtant\, ce sont des compétences super importantes pour se sentir bien\, réussir à l’école\, au boulot\, ou juste dans la vie de tous les jours. \nPendant cette conférence\, on va parler de ce qu’on appelle les compétences psycho-sociales\, autrement dit\, tout ce qui aide à mieux se comprendre soi-même et à mieux vivre avec les autres. \nComment garder son calme quand tout s’enchaîne ? Comment éviter les malentendus\, les clashs ou le stress ? Et surtout\, comment apprendre à s’écouter\, à s’affirmer et à construire des relations saines ? \nUn moment pour échanger\, comprendre et repartir avec des idées simples pour se sentir bien dans sa tête et avec les autres. \n  \nEntrée gratuite (avec pré-inscription)
URL:https://triskellcom.com/calendrier-evenements/rendez-vous-de-la-sante/
LOCATION:la Loco\, 33 Bd de la Gare\, Quimperlé\, bretagne\, 29300\, France
CATEGORIES:Bien-être, Apprentissage & Développement personnel,Conférences & formations
ATTACH;FMTTYPE=image/jpeg:https://triskellcom.com/wp-content/uploads/2026/03/Rendez-vous-de-la-Sante-e1774971220734.jpeg
END:VEVENT
BEGIN:VEVENT
DTSTART;TZID=Europe/Paris:20260430T200000
DTEND;TZID=Europe/Paris:20260501T030000
DTSTAMP:20260422T132109
CREATED:20260331T154246Z
LAST-MODIFIED:20260331T154246Z
UID:1185-1777579200-1777604400@triskellcom.com
SUMMARY:Nashville PUSSY - Lucie SUE (Hard Rock)
DESCRIPTION:NASHVILLE PUSSY\nC’est le D DAY après les plages de Normandie ! C’est à Quimperlé City que les ricains débarquent !!! Première date de leur tournée européenne et à peine sorti de l’avion en provenance d’Atlanta !!!!! \nAu cours des deux dernières décennies\, Nashville Pussy a prêché son évangile décadent aux côtés de Motörhead dans chaque avant-poste rock\, de l’Asie à l’Europe et vice versa. Élevé au son des amplis Marshall\, des guitares Gibson et du Jack Daniels\, Nashville Pussy est le bâtard issu du mariage entre le camionneur dément au langage fleuri Blaine Cartwright et la prodige de la guitare Ruyter Suys\, modèle vivant d’école d’art et conductrice de tracteur. \nNé dans la Bible Belt baptiste profonde du Kentucky\, Blaine Cartwright utilisait les Ramones et les New York Dolls pour rester sain d’esprit\, tandis qu’à Vancouver\, au Canada\, la jeune hippie de 8 ans Ruyter Suys reprenait la guitare de son père en jouant du Led Zeppelin et du Jimi Hendrix. Une fois les bouteilles de whisky vidées\, Nashville Pussy a fait vibrer la scène. Six albums studio plus tard\, le groupe a maintenant joué devant des centaines de milliers de fans dans près de quarante pays\, partageant la scène avec certains des plus grands groupes de la planète\, dont ZZTOP\, SLAYER\, Iron Maiden\, Black Sabbath et LYNYRD SKYNYRD ! \nhttps://www.youtube.com/watch?v=dH5VpdJRtfM \nLUCIE SUE\nAmoureuse de hard rock sous toutes ses formes\, qu’il soit glam ou grunge\, Lucie Sue muscle son jeu avec Battlestation\, son deuxième album. Multi-instrumentiste devenue star du rock\, elle est sur le point de révolutionner la scène musicale. \nAvec sa détermination farouche et son talent indéniable\, Lucie Sue est prête à faire vibrer les scènes rock du monde entier ! \nPrévente: 20€ \nJour J: 25€ \nMoins de 12 ans : 10€
URL:https://triskellcom.com/calendrier-evenements/nashville-pussy-lucie-sue-concert-hard-rock/
LOCATION:la Loco\, 33 Bd de la Gare\, Quimperlé\, bretagne\, 29300\, France
CATEGORIES:Concerts & Soirées musicales,Vie sociale, Communauté & Fêtes
ATTACH;FMTTYPE=image/jpeg:https://triskellcom.com/wp-content/uploads/2026/03/Nashville-PUSSY-Lucie-SUE-Hard-Rock.jpeg
END:VEVENT
END:VCALENDAR