BEGIN:VCALENDAR
VERSION:2.0
PRODID:-//TriskellCom - ECPv6.15.20//NONSGML v1.0//EN
CALSCALE:GREGORIAN
METHOD:PUBLISH
X-WR-CALNAME:TriskellCom
X-ORIGINAL-URL:https://triskellcom.com
X-WR-CALDESC:Évènements pour TriskellCom
REFRESH-INTERVAL;VALUE=DURATION:PT1H
X-Robots-Tag:noindex
X-PUBLISHED-TTL:PT1H
BEGIN:VTIMEZONE
TZID:Europe/Paris
BEGIN:DAYLIGHT
TZOFFSETFROM:+0100
TZOFFSETTO:+0200
TZNAME:CEST
DTSTART:20250330T010000
END:DAYLIGHT
BEGIN:STANDARD
TZOFFSETFROM:+0200
TZOFFSETTO:+0100
TZNAME:CET
DTSTART:20251026T010000
END:STANDARD
BEGIN:DAYLIGHT
TZOFFSETFROM:+0100
TZOFFSETTO:+0200
TZNAME:CEST
DTSTART:20260329T010000
END:DAYLIGHT
BEGIN:STANDARD
TZOFFSETFROM:+0200
TZOFFSETTO:+0100
TZNAME:CET
DTSTART:20261025T010000
END:STANDARD
BEGIN:DAYLIGHT
TZOFFSETFROM:+0100
TZOFFSETTO:+0200
TZNAME:CEST
DTSTART:20270328T010000
END:DAYLIGHT
BEGIN:STANDARD
TZOFFSETFROM:+0200
TZOFFSETTO:+0100
TZNAME:CET
DTSTART:20271031T010000
END:STANDARD
END:VTIMEZONE
BEGIN:VEVENT
DTSTART;TZID=Europe/Paris:20260503T143000
DTEND;TZID=Europe/Paris:20260503T180000
DTSTAMP:20260422T143308
CREATED:20260401T151843Z
LAST-MODIFIED:20260401T151843Z
UID:1195-1777818600-1777831200@triskellcom.com
SUMMARY:Après-midi de jeux pour les aventuriers du rail animé par Lucky Lude
DESCRIPTION:Lucky Lude est une association de Quimperlé qui a pour objet la promotion de la pratique des jeux de société. \nLucky Lude animera au sein de La Loco un après-midi autour des jeux “Les Aventuriers du Rail” et “Mémoire 44” !
URL:https://triskellcom.com/calendrier-evenements/apres-midi-de-jeux-pour-les-aventuriers-du-rail-anime-par-lucky-lude/
LOCATION:la Loco\, 33 Bd de la Gare\, Quimperlé\, bretagne\, 29300\, France
CATEGORIES:Événements associatifs & caritatifs,Vie sociale, Communauté & Fêtes
ATTACH;FMTTYPE=image/jpeg:https://triskellcom.com/wp-content/uploads/2026/03/Apres-midi-de-jeux-pour-les-aventuriers-du-rail-anime-par-Lucky-Lude.jpeg
END:VEVENT
END:VCALENDAR