BEGIN:VCALENDAR
VERSION:2.0
PRODID:-//TriskellCom - ECPv6.15.20//NONSGML v1.0//EN
CALSCALE:GREGORIAN
METHOD:PUBLISH
X-ORIGINAL-URL:https://triskellcom.com
X-WR-CALDESC:Évènements pour TriskellCom
REFRESH-INTERVAL;VALUE=DURATION:PT1H
X-Robots-Tag:noindex
X-PUBLISHED-TTL:PT1H
BEGIN:VTIMEZONE
TZID:Europe/Paris
BEGIN:DAYLIGHT
TZOFFSETFROM:+0100
TZOFFSETTO:+0200
TZNAME:CEST
DTSTART:20250330T010000
END:DAYLIGHT
BEGIN:STANDARD
TZOFFSETFROM:+0200
TZOFFSETTO:+0100
TZNAME:CET
DTSTART:20251026T010000
END:STANDARD
BEGIN:DAYLIGHT
TZOFFSETFROM:+0100
TZOFFSETTO:+0200
TZNAME:CEST
DTSTART:20260329T010000
END:DAYLIGHT
BEGIN:STANDARD
TZOFFSETFROM:+0200
TZOFFSETTO:+0100
TZNAME:CET
DTSTART:20261025T010000
END:STANDARD
BEGIN:DAYLIGHT
TZOFFSETFROM:+0100
TZOFFSETTO:+0200
TZNAME:CEST
DTSTART:20270328T010000
END:DAYLIGHT
BEGIN:STANDARD
TZOFFSETFROM:+0200
TZOFFSETTO:+0100
TZNAME:CET
DTSTART:20271031T010000
END:STANDARD
END:VTIMEZONE
BEGIN:VEVENT
DTSTART;TZID=Europe/Paris:20260522T200000
DTEND;TZID=Europe/Paris:20260523T030000
DTSTAMP:20260422T154136
CREATED:20260420T143317Z
LAST-MODIFIED:20260420T143317Z
UID:1271-1779480000-1779505200@triskellcom.com
SUMMARY:NO PAIN NO PAIN (Post-rock électronique)
DESCRIPTION:Ce duo roule pleine balle\, il nous conduit entre ombre et lumière\, sous la pluie d’un soleil radieux. \nEt si leur nom est en miroir\, c’est pour toujours mieux avouer que l’un est le reflet de l’autre. Écho éclatant de la noirceur que nous abritons tous\, leur musique suffoque le post-rock alors que la lumière\, elle\, est toute proche. \nLeur premier album Radiance s’est écrit chez eux\, dans cette Bretagne qui leur est chère. Manifeste instrumental ou évidence fraternelle\, ici pas besoin de chanter car l’envie n’y est pas. On affronte le fait que les voix peuvent être une entrave à la fièvre qui les anime\, alors on les confie à d’autres. \nLes passages aériens et planants s’allient aux murs de guitares rageurs et massifs\, un relief singulier sublimé par des textes personnels forts. Leur post-rock électronique dégage avec rage et émotion un son lourd\, puissant et incisif. \nhttps://youtu.be/JHDA1O2FAuk
URL:https://triskellcom.com/calendrier-evenements/no-pain-no-pain-concert-post-rock/
LOCATION:la Loco\, 33 Bd de la Gare\, Quimperlé\, bretagne\, 29300\, France
CATEGORIES:Concerts & Soirées musicales,Vie sociale, Communauté & Fêtes
ATTACH;FMTTYPE=image/jpeg:https://triskellcom.com/wp-content/uploads/2026/04/NO-PAIN-NO-PAIN-Post-rock-electronique.jpeg
END:VEVENT
END:VCALENDAR