BEGIN:VCALENDAR
VERSION:2.0
PRODID:-//TriskellCom - ECPv6.15.20//NONSGML v1.0//EN
CALSCALE:GREGORIAN
METHOD:PUBLISH
X-ORIGINAL-URL:https://triskellcom.com
X-WR-CALDESC:Évènements pour TriskellCom
REFRESH-INTERVAL;VALUE=DURATION:PT1H
X-Robots-Tag:noindex
X-PUBLISHED-TTL:PT1H
BEGIN:VTIMEZONE
TZID:Europe/Paris
BEGIN:DAYLIGHT
TZOFFSETFROM:+0100
TZOFFSETTO:+0200
TZNAME:CEST
DTSTART:20250330T010000
END:DAYLIGHT
BEGIN:STANDARD
TZOFFSETFROM:+0200
TZOFFSETTO:+0100
TZNAME:CET
DTSTART:20251026T010000
END:STANDARD
BEGIN:DAYLIGHT
TZOFFSETFROM:+0100
TZOFFSETTO:+0200
TZNAME:CEST
DTSTART:20260329T010000
END:DAYLIGHT
BEGIN:STANDARD
TZOFFSETFROM:+0200
TZOFFSETTO:+0100
TZNAME:CET
DTSTART:20261025T010000
END:STANDARD
BEGIN:DAYLIGHT
TZOFFSETFROM:+0100
TZOFFSETTO:+0200
TZNAME:CEST
DTSTART:20270328T010000
END:DAYLIGHT
BEGIN:STANDARD
TZOFFSETFROM:+0200
TZOFFSETTO:+0100
TZNAME:CET
DTSTART:20271031T010000
END:STANDARD
END:VTIMEZONE
BEGIN:VEVENT
DTSTART;TZID=Europe/Paris:20260516T200000
DTEND;TZID=Europe/Paris:20260517T030000
DTSTAMP:20260422T154136
CREATED:20260420T141305Z
LAST-MODIFIED:20260420T141919Z
UID:1258-1778961600-1778986800@triskellcom.com
SUMMARY:KARPATT - La tête dans le sax
DESCRIPTION:KARPATT\nDéjà plus de vingt ans que que les routards de Karpatt sèment leurs chansons et leur bonne humeur dans les salles de France et de Navarre…. Chanson française\, jazz manouche\, rock\, et aujourd’hui explorant les rythmiques sud-américaines\, aux petites touches électro çà et là\, il n’y a pas de frontières dans les musiques de Karpatt qui compose au gré des envies\, mais aussi des voyages et des rencontres ayant ponctué la vie de ces musiciens curieux\, guidés surtout par l’envie de partager des émotions\, d’emmener l’auditeur ailleurs. \nhttps://www.youtube.com/watch?v=lsN4h8yMxQ8  \nLa tête dans le sax\nCe sont les locaux de l’étape qui assureront la première partie ! La tête dans le sax c’est une histoire de quatre potes musiciens installés depuis quelques années entre Quimperlé et Lorient. Le groupe vous proposera en apéro des chansons à texte\, atypiques et réalistes\, de quoi trinquer joyeusement sur un p’tit bout de bar ! \nhttps://www.youtube.com/watch?v=Kg29U9aWoAQ \n  \nPrévente : 10€ \nTarif J-7 : 15€
URL:https://triskellcom.com/calendrier-evenements/karpatt-la-tete-dans-le-sax-concert/
LOCATION:la Loco\, 33 Bd de la Gare\, Quimperlé\, bretagne\, 29300\, France
CATEGORIES:Concerts & Soirées musicales,Vie sociale, Communauté & Fêtes
ATTACH;FMTTYPE=image/jpeg:https://triskellcom.com/wp-content/uploads/2026/04/KARPATT-La-tete-dans-le-sax.jpeg
END:VEVENT
BEGIN:VEVENT
DTSTART;TZID=Europe/Paris:20260517T180000
DTEND;TZID=Europe/Paris:20260517T220000
DTSTAMP:20260422T154136
CREATED:20260420T141501Z
LAST-MODIFIED:20260420T142348Z
UID:1261-1779040800-1779055200@triskellcom.com
SUMMARY:Blues Jam Session / Crêpes
DESCRIPTION:Blues jam Session
URL:https://triskellcom.com/calendrier-evenements/blues-jam-session-crepes-2/
LOCATION:la Loco\, 33 Bd de la Gare\, Quimperlé\, bretagne\, 29300\, France
CATEGORIES:Concerts & Soirées musicales,Vie sociale, Communauté & Fêtes
ATTACH;FMTTYPE=image/jpeg:https://triskellcom.com/wp-content/uploads/2026/03/Blues-Jam-Session-Crepes-e1774966495964.jpeg
END:VEVENT
END:VCALENDAR