BEGIN:VCALENDAR
VERSION:2.0
PRODID:-//TriskellCom - ECPv6.15.20//NONSGML v1.0//EN
CALSCALE:GREGORIAN
METHOD:PUBLISH
X-ORIGINAL-URL:https://triskellcom.com
X-WR-CALDESC:Évènements pour TriskellCom
REFRESH-INTERVAL;VALUE=DURATION:PT1H
X-Robots-Tag:noindex
X-PUBLISHED-TTL:PT1H
BEGIN:VTIMEZONE
TZID:Europe/Paris
BEGIN:DAYLIGHT
TZOFFSETFROM:+0100
TZOFFSETTO:+0200
TZNAME:CEST
DTSTART:20250330T010000
END:DAYLIGHT
BEGIN:STANDARD
TZOFFSETFROM:+0200
TZOFFSETTO:+0100
TZNAME:CET
DTSTART:20251026T010000
END:STANDARD
BEGIN:DAYLIGHT
TZOFFSETFROM:+0100
TZOFFSETTO:+0200
TZNAME:CEST
DTSTART:20260329T010000
END:DAYLIGHT
BEGIN:STANDARD
TZOFFSETFROM:+0200
TZOFFSETTO:+0100
TZNAME:CET
DTSTART:20261025T010000
END:STANDARD
BEGIN:DAYLIGHT
TZOFFSETFROM:+0100
TZOFFSETTO:+0200
TZNAME:CEST
DTSTART:20270328T010000
END:DAYLIGHT
BEGIN:STANDARD
TZOFFSETFROM:+0200
TZOFFSETTO:+0100
TZNAME:CET
DTSTART:20271031T010000
END:STANDARD
END:VTIMEZONE
BEGIN:VEVENT
DTSTART;TZID=Europe/Paris:20260514T180000
DTEND;TZID=Europe/Paris:20260514T233000
DTSTAMP:20260422T154221
CREATED:20260420T140528Z
LAST-MODIFIED:20260420T140549Z
UID:1252-1778781600-1778801400@triskellcom.com
SUMMARY:Fall Of Messiah - Gros Enfant Mort (emo/hardcore) / Brisae (Metal Alternatif)
DESCRIPTION:Billetterie : https://www.helloasso.com/associations/the-warren/evenements/fall-of-messiah-x-gros-enfant-mort-quimperle  \n  \nFall Of Messiah\n20 ans. Un cap forcément important dans la vie d’un groupe\, assez rare pour être souligné en France et au sein des musiques aventureuses et intenses. Ce cap\, Fall Of Messiah s’apprête à le franchir après une période que les galères et les doutes n’auront pas épargné. \nC’est déterminée et revigorée par un nouveau line-up que LA référence screamo post rockhexagonale fait son grand retour en 2026 avec son 5ème album Green Lands. Soit la conclusion de la trilogie initiée par Empty Colors en 2016 puis Senicarne en 2020. \nLe désormais quatuor n’entend pas changer le style qui a fait sa réputation\, mais il est certain que celui-ci est célébré dans tout ce qu’il fait résonner de plus libérateur\, toujours mélancolique\, assurément fascinant ! \nhttps://www.youtube.com/watch?v=dsppxPfMGpo \nGros Enfant Mort\nLe nouvel album « Le Sang des Pierres » de Gros Enfant Mort\, sorti le 23 janvier 2026\, est un projet qui continue d’explorer la cruauté de la société et la dépression. \nL’album met en avant des étapes de dépression avec des hauts et des bas\, illustrant la dualité entre l’euphorie et le désespoir. Les morceaux incluent des éléments de métal avec des basses grassouillettes et des passages rapides avec des paroles spoken words. \nhttps://www.youtube.com/watch?v=dsppxPfMGpo \nBrisae\nLe groupe local ! Du Metal Alternatif de Vannes ! \nhttps://www.instagram.com/brisae.music?igsh=Y2VkN3d3dDF5d21r
URL:https://triskellcom.com/calendrier-evenements/fall-of-messiah-gros-enfant-mort-concert/
LOCATION:la Loco\, 33 Bd de la Gare\, Quimperlé\, bretagne\, 29300\, France
CATEGORIES:Concerts & Soirées musicales,Vie sociale, Communauté & Fêtes
ATTACH;FMTTYPE=image/jpeg:https://triskellcom.com/wp-content/uploads/2026/04/Fall-Of-Messiah-Gros-Enfant-Mort-emohardcore-Brisae-Metal-Alternatif.jpeg
END:VEVENT
END:VCALENDAR