BEGIN:VCALENDAR
VERSION:2.0
PRODID:-//TriskellCom - ECPv6.15.20//NONSGML v1.0//EN
CALSCALE:GREGORIAN
METHOD:PUBLISH
X-ORIGINAL-URL:https://triskellcom.com
X-WR-CALDESC:Évènements pour TriskellCom
REFRESH-INTERVAL;VALUE=DURATION:PT1H
X-Robots-Tag:noindex
X-PUBLISHED-TTL:PT1H
BEGIN:VTIMEZONE
TZID:Europe/Paris
BEGIN:DAYLIGHT
TZOFFSETFROM:+0100
TZOFFSETTO:+0200
TZNAME:CEST
DTSTART:20250330T010000
END:DAYLIGHT
BEGIN:STANDARD
TZOFFSETFROM:+0200
TZOFFSETTO:+0100
TZNAME:CET
DTSTART:20251026T010000
END:STANDARD
BEGIN:DAYLIGHT
TZOFFSETFROM:+0100
TZOFFSETTO:+0200
TZNAME:CEST
DTSTART:20260329T010000
END:DAYLIGHT
BEGIN:STANDARD
TZOFFSETFROM:+0200
TZOFFSETTO:+0100
TZNAME:CET
DTSTART:20261025T010000
END:STANDARD
BEGIN:DAYLIGHT
TZOFFSETFROM:+0100
TZOFFSETTO:+0200
TZNAME:CEST
DTSTART:20270328T010000
END:DAYLIGHT
BEGIN:STANDARD
TZOFFSETFROM:+0200
TZOFFSETTO:+0100
TZNAME:CET
DTSTART:20271031T010000
END:STANDARD
END:VTIMEZONE
BEGIN:VEVENT
DTSTART;TZID=Europe/Paris:20260509T200000
DTEND;TZID=Europe/Paris:20260510T030000
DTSTAMP:20260422T154223
CREATED:20260420T133420Z
LAST-MODIFIED:20260420T133420Z
UID:1244-1778356800-1778382000@triskellcom.com
SUMMARY:Hommage à Georges Brassens / Brassens Not Dead / Les Vieux Fourneaux / Courégant Jazz Club
DESCRIPTION:Brassen’s Not Dead\, est un groupe de punk rock français\, originaire de Toulouse\, en Haute-Garonne. Il est formé en 2006 dans le but de faire revivre la mémoire de Georges Brassens\, en réinterprétant ses chansons dans des versions punk\, tout en gardant l’humour et l’esprit contestataire ! \nhttps://youtu.be/GzVxOUzHlt0?list=RDGzVxOUzHlt0  \nLe trio des Vieux Fourneaux\, trois compères musiciens amateurs\, Yann à la guitare et au chant\, Michel au chant et à la contrebasse superbement décorée et Reynald à la batterie\, se retrouvent pour interpréter les chansons du grand Georges. \nhttps://youtu.be/C4CpOab-wAg \nLe Courégant Jazz Club distille un bon vieux jazz swing des années 1920 à 1950 agrémenté de jazz manouche\, d’un zeste de Brassens jazzy\, d’un zeste de biguine\, d’une mesurette de Bebop\, un soupçon de bossa\, d’une bonne dose de New Orléans\, et le tout devient le Courégant Jazz Club ! \nhttps://www.facebook.com/reel/2301793673566283 \n  \nPrévente : 12€ \nTarif J-7 : 15€ \nMoins de 12 ans : 7.50€
URL:https://triskellcom.com/calendrier-evenements/hommage-georges-brassens-concert/
LOCATION:la Loco\, 33 Bd de la Gare\, Quimperlé\, bretagne\, 29300\, France
CATEGORIES:Concerts & Soirées musicales,Vie sociale, Communauté & Fêtes
ATTACH;FMTTYPE=image/webp:https://triskellcom.com/wp-content/uploads/2026/04/Hommage-a-Georges-Brassens-Brassens-Not-Dead-Les-Vieux-Fourneaux-Couregant-Jazz-Club.webp
END:VEVENT
BEGIN:VEVENT
DTSTART;TZID=Europe/Paris:20260510T180000
DTEND;TZID=Europe/Paris:20260510T220000
DTSTAMP:20260422T154223
CREATED:20260420T134345Z
LAST-MODIFIED:20260420T140058Z
UID:1247-1778436000-1778450400@triskellcom.com
SUMMARY:THEATRE D’IMPRO Cie TANDEM
DESCRIPTION:Un p’tit moment en famille avec les amis de la Cie Tandem ! \nAu menu : du rire\, de la surprise !
URL:https://triskellcom.com/calendrier-evenements/theatre-impro-cie-tandem/
LOCATION:la Loco\, 33 Bd de la Gare\, Quimperlé\, bretagne\, 29300\, France
CATEGORIES:Art, Culture & Divertissement,Spectacles & théâtre
ATTACH;FMTTYPE=image/jpeg:https://triskellcom.com/wp-content/uploads/2026/04/THEATRE-DIMPRO-Cie-TANDEM.jpeg
END:VEVENT
END:VCALENDAR