BEGIN:VCALENDAR
VERSION:2.0
PRODID:-//TriskellCom - ECPv6.15.20//NONSGML v1.0//EN
CALSCALE:GREGORIAN
METHOD:PUBLISH
X-WR-CALNAME:TriskellCom
X-ORIGINAL-URL:https://triskellcom.com
X-WR-CALDESC:Évènements pour TriskellCom
REFRESH-INTERVAL;VALUE=DURATION:PT1H
X-Robots-Tag:noindex
X-PUBLISHED-TTL:PT1H
BEGIN:VTIMEZONE
TZID:Europe/Paris
BEGIN:DAYLIGHT
TZOFFSETFROM:+0100
TZOFFSETTO:+0200
TZNAME:CEST
DTSTART:20250330T010000
END:DAYLIGHT
BEGIN:STANDARD
TZOFFSETFROM:+0200
TZOFFSETTO:+0100
TZNAME:CET
DTSTART:20251026T010000
END:STANDARD
BEGIN:DAYLIGHT
TZOFFSETFROM:+0100
TZOFFSETTO:+0200
TZNAME:CEST
DTSTART:20260329T010000
END:DAYLIGHT
BEGIN:STANDARD
TZOFFSETFROM:+0200
TZOFFSETTO:+0100
TZNAME:CET
DTSTART:20261025T010000
END:STANDARD
BEGIN:DAYLIGHT
TZOFFSETFROM:+0100
TZOFFSETTO:+0200
TZNAME:CEST
DTSTART:20270328T010000
END:DAYLIGHT
BEGIN:STANDARD
TZOFFSETFROM:+0200
TZOFFSETTO:+0100
TZNAME:CET
DTSTART:20271031T010000
END:STANDARD
END:VTIMEZONE
BEGIN:VEVENT
DTSTART;TZID=Europe/Paris:20260415T140000
DTEND;TZID=Europe/Paris:20260415T170000
DTSTAMP:20260422T142851
CREATED:20260330T165906Z
LAST-MODIFIED:20260331T120902Z
UID:1138-1776261600-1776272400@triskellcom.com
SUMMARY:Atelier Voix / Improvisation vocale avec LOUV (15 places)
DESCRIPTION:ATELIER Voix – Improvisation vocale avec LOUV. \nAu programme : Échauffement vocal et corporel – Apprentissage d’un chant collectif – Improvisation vocale sous forme de jeux. \nTous niveaux\, à partir de 15 ans sur inscription au 06 63 83 98 71. \n15 personnes maxi donc réservezzzzzz !!!! \nPrévoir une tenue souple et confortable. \n  \ntarif: 15€ (14 places restantes)
URL:https://triskellcom.com/calendrier-evenements/atelier-voix-improvisation-vocale-louv/
LOCATION:la Loco\, 33 Bd de la Gare\, Quimperlé\, bretagne\, 29300\, France
CATEGORIES:Art, Culture & Divertissement,Ateliers créatifs & cours de cuisine,Bien-être, Apprentissage & Développement personnel,Événements artistiques & expérience immersives
ATTACH;FMTTYPE=image/jpeg:https://triskellcom.com/wp-content/uploads/2026/03/Atelier-Voix-Improvisation-vocale-avec-LOUV.jpeg
END:VEVENT
BEGIN:VEVENT
DTSTART;TZID=Europe/Paris:20260415T180000
DTEND;TZID=Europe/Paris:20260415T220000
DTSTAMP:20260422T142851
CREATED:20260331T121519Z
LAST-MODIFIED:20260331T121834Z
UID:1141-1776276000-1776290400@triskellcom.com
SUMMARY:AFTER WORK SESSION IRLANDAISE
DESCRIPTION:Viendez trembler au son de la Musique traditionnelle Irlandaise ! \nChaque mercredi entre 18H et 22H en live et sans chichi\, des zikos passionnés vont vous offrir en p’tit voyage à travers les terres légendaires de l’île verte ! \nQuoi de mieux pour finir la journée peinard en sirotant une p’tite mousse maison ?
URL:https://triskellcom.com/calendrier-evenements/after-work-session-irlandaise-2/
LOCATION:la Loco\, 33 Bd de la Gare\, Quimperlé\, bretagne\, 29300\, France
CATEGORIES:Concerts & Soirées musicales,Vie sociale, Communauté & Fêtes
ATTACH;FMTTYPE=image/jpeg:https://triskellcom.com/wp-content/uploads/2026/03/AFTER-WORK-SESSION-IRLANDAISE-.jpeg
END:VEVENT
END:VCALENDAR