BEGIN:VCALENDAR
VERSION:2.0
PRODID:-//TriskellCom - ECPv6.15.20//NONSGML v1.0//EN
CALSCALE:GREGORIAN
METHOD:PUBLISH
X-WR-CALNAME:TriskellCom
X-ORIGINAL-URL:https://triskellcom.com
X-WR-CALDESC:Évènements pour TriskellCom
REFRESH-INTERVAL;VALUE=DURATION:PT1H
X-Robots-Tag:noindex
X-PUBLISHED-TTL:PT1H
BEGIN:VTIMEZONE
TZID:Europe/Paris
BEGIN:DAYLIGHT
TZOFFSETFROM:+0100
TZOFFSETTO:+0200
TZNAME:CEST
DTSTART:20250330T010000
END:DAYLIGHT
BEGIN:STANDARD
TZOFFSETFROM:+0200
TZOFFSETTO:+0100
TZNAME:CET
DTSTART:20251026T010000
END:STANDARD
BEGIN:DAYLIGHT
TZOFFSETFROM:+0100
TZOFFSETTO:+0200
TZNAME:CEST
DTSTART:20260329T010000
END:DAYLIGHT
BEGIN:STANDARD
TZOFFSETFROM:+0200
TZOFFSETTO:+0100
TZNAME:CET
DTSTART:20261025T010000
END:STANDARD
BEGIN:DAYLIGHT
TZOFFSETFROM:+0100
TZOFFSETTO:+0200
TZNAME:CEST
DTSTART:20270328T010000
END:DAYLIGHT
BEGIN:STANDARD
TZOFFSETFROM:+0200
TZOFFSETTO:+0100
TZNAME:CET
DTSTART:20271031T010000
END:STANDARD
END:VTIMEZONE
BEGIN:VEVENT
DTSTART;TZID=Europe/Paris:20260411T200000
DTEND;TZID=Europe/Paris:20260412T030000
DTSTAMP:20260422T142851
CREATED:20260330T163730Z
LAST-MODIFIED:20260330T163948Z
UID:1128-1775937600-1775962800@triskellcom.com
SUMMARY:Francky 2000 (Soirée années 80' à aujourd'hui)
DESCRIPTION:Venez écouter et danser sur les meilleurs musiques des années 80 à aujourd’hui avec DJ Franky 2000 aux platines !!! \nRestauration sur place avec les meilleures crêpes de l’univers\, celles de Mamy Ninja !!! \nBref\, de quoi oublier la semaine “boulot rétro dodo” et d’enquiller quelques pintes en bonne et heureuse compagnie !
URL:https://triskellcom.com/calendrier-evenements/francky-2000-soiree-annees-80/
LOCATION:la Loco\, 33 Bd de la Gare\, Quimperlé\, bretagne\, 29300\, France
CATEGORIES:Concerts & Soirées musicales,Vie sociale, Communauté & Fêtes
ATTACH;FMTTYPE=image/jpeg:https://triskellcom.com/wp-content/uploads/2026/03/Francky-2000-soiree-annees-80-a-Aujourdhui.jpeg
END:VEVENT
BEGIN:VEVENT
DTSTART;TZID=Europe/Paris:20260412T143000
DTEND;TZID=Europe/Paris:20260412T180000
DTSTAMP:20260422T142851
CREATED:20260330T164715Z
LAST-MODIFIED:20260330T164739Z
UID:1132-1776004200-1776016800@triskellcom.com
SUMMARY:Après-midi de jeux pour les aventuriers du rail animé par Lucky Lude
DESCRIPTION:Lucky Lude est une association de Quimperlé qui a pour objet la promotion de la pratique des jeux de société. \nLucky Lude animera au sein de La Loco une après-midi récréative avec les jeux “Les Aventuriers du Rail” et “Mémoire 44” !
URL:https://triskellcom.com/calendrier-evenements/apres-midi-jeux-lucky-lude-aventuriers-du-rail/
LOCATION:la Loco\, 33 Bd de la Gare\, Quimperlé\, bretagne\, 29300\, France
CATEGORIES:Événements associatifs & caritatifs,Vie sociale, Communauté & Fêtes
ATTACH;FMTTYPE=image/jpeg:https://triskellcom.com/wp-content/uploads/2026/03/Apres-midi-de-jeux-pour-les-aventuriers-du-rail-anime-par-Lucky-Lude.jpeg
END:VEVENT
BEGIN:VEVENT
DTSTART;TZID=Europe/Paris:20260412T180000
DTEND;TZID=Europe/Paris:20260412T220000
DTSTAMP:20260422T142851
CREATED:20260330T165304Z
LAST-MODIFIED:20260330T165503Z
UID:1135-1776016800-1776031200@triskellcom.com
SUMMARY:Super Extraordinaire match de Catch - Théâtre Impro (Cie TANDEM) / Crêpes
DESCRIPTION:✨La Loco – Dimanche 12 avril Open doors : 18H Catch/Round 1 : 18H05 18H45 (40mn) Théâtre impro : 19H 20H (60mn) Catch/Round 2 : 20H15 21H15 (60mn) \n\n\n\nLa Cie TANDEM vous propose un super extraordinaire match de catch !\nClé de bras\, coup de la corde à linge\, et autres prises et facéties vous assurent un grand combat à ne louper sous aucun prétexte !!!
URL:https://triskellcom.com/calendrier-evenements/match-catch-theatre-impro-cie-tandem/
LOCATION:la Loco\, 33 Bd de la Gare\, Quimperlé\, bretagne\, 29300\, France
CATEGORIES:Art, Culture & Divertissement,Spectacles & théâtre,Sport, Loisirs & Aventure,Tournois & compétitions
ATTACH;FMTTYPE=image/jpeg:https://triskellcom.com/wp-content/uploads/2026/03/Super-Extraordinaire-match-de-Catch-Theatre-Impro-Cie-TANDEM-Crepes.jpeg
END:VEVENT
END:VCALENDAR